BEGIN:VCALENDAR
VERSION:2.0
PRODID:-//Sifnos cultural events - ECPv6.15.20//NONSGML v1.0//EN
CALSCALE:GREGORIAN
METHOD:PUBLISH
X-WR-CALNAME:Sifnos cultural events
X-ORIGINAL-URL:https://sifnos2day.gr/el/
X-WR-CALDESC:Events for Sifnos cultural events
REFRESH-INTERVAL;VALUE=DURATION:PT1H
X-Robots-Tag:noindex
X-PUBLISHED-TTL:PT1H
BEGIN:VTIMEZONE
TZID:Europe/Athens
BEGIN:DAYLIGHT
TZOFFSETFROM:+0200
TZOFFSETTO:+0300
TZNAME:EEST
DTSTART:20250330T010000
END:DAYLIGHT
BEGIN:STANDARD
TZOFFSETFROM:+0300
TZOFFSETTO:+0200
TZNAME:EET
DTSTART:20251026T010000
END:STANDARD
BEGIN:DAYLIGHT
TZOFFSETFROM:+0200
TZOFFSETTO:+0300
TZNAME:EEST
DTSTART:20260329T010000
END:DAYLIGHT
BEGIN:STANDARD
TZOFFSETFROM:+0300
TZOFFSETTO:+0200
TZNAME:EET
DTSTART:20261025T010000
END:STANDARD
BEGIN:DAYLIGHT
TZOFFSETFROM:+0200
TZOFFSETTO:+0300
TZNAME:EEST
DTSTART:20270328T010000
END:DAYLIGHT
BEGIN:STANDARD
TZOFFSETFROM:+0300
TZOFFSETTO:+0200
TZNAME:EET
DTSTART:20271031T010000
END:STANDARD
END:VTIMEZONE
BEGIN:VEVENT
DTSTART;TZID=Europe/Athens:20260917T180000
DTEND;TZID=Europe/Athens:20260917T180000
DTSTAMP:20260426T062901
CREATED:20260424T060307Z
LAST-MODIFIED:20260424T060441Z
UID:10000450-1789668000-1789668000@sifnos2day.gr
SUMMARY:18ο Φεστιβάλ Κυκλαδικής Γαστρονονομίας "Νικόλαος Τσελεμεντές"
DESCRIPTION:Share on Facebook(Ανοίγει σε νέο παράθυρο)\n				Facebook\n			\n				Share on WhatsApp(Ανοίγει σε νέο παράθυρο)\n				WhatsApp\n			\n				Share on X(Ανοίγει σε νέο παράθυρο)\n				X\n			\n				Εκτύπωση(Ανοίγει σε νέο παράθυρο)\n				Εκτύπωση\n			\n				Email a link to a friend(Ανοίγει σε νέο παράθυρο)\n				Email
URL:https://sifnos2day.gr/el/event/18%ce%bf-%cf%86%ce%b5%cf%83%cf%84%ce%b9%ce%b2%ce%ac%ce%bb-%ce%ba%cf%85%ce%ba%ce%bb%ce%b1%ce%b4%ce%b9%ce%ba%ce%ae%cf%82-%ce%b3%ce%b1%cf%83%cf%84%cf%81%ce%bf%ce%bd%ce%bf%ce%bd%ce%bf%ce%bc%ce%af%ce%b1/2026-09-17/
LOCATION:Πλατεία Αρτεμώνα\, Bus Stop Artemonas\, Σίφνος\, Κυκλάδες\, 84003\, Greece
ATTACH;FMTTYPE=image/jpeg:https://sifnos2day.gr/wp-content/uploads/2026/04/tselementes.jpg
GEO:36.980146092907;24.72591707835
X-APPLE-STRUCTURED-LOCATION;VALUE=URI;X-ADDRESS=Πλατεία Αρτεμώνα Bus Stop Artemonas Σίφνος Κυκλάδες 84003 Greece;X-APPLE-RADIUS=500;X-TITLE=Bus Stop Artemonas:geo:24.72591707835,36.980146092907
END:VEVENT
END:VCALENDAR