BEGIN:VCALENDAR
VERSION:2.0
PRODID:-//Sifnos cultural events - ECPv6.15.20//NONSGML v1.0//EN
CALSCALE:GREGORIAN
METHOD:PUBLISH
X-ORIGINAL-URL:https://sifnos2day.gr/el/
X-WR-CALDESC:Events for Sifnos cultural events
REFRESH-INTERVAL;VALUE=DURATION:PT1H
X-Robots-Tag:noindex
X-PUBLISHED-TTL:PT1H
BEGIN:VTIMEZONE
TZID:Europe/Athens
BEGIN:DAYLIGHT
TZOFFSETFROM:+0200
TZOFFSETTO:+0300
TZNAME:EEST
DTSTART:20250330T010000
END:DAYLIGHT
BEGIN:STANDARD
TZOFFSETFROM:+0300
TZOFFSETTO:+0200
TZNAME:EET
DTSTART:20251026T010000
END:STANDARD
BEGIN:DAYLIGHT
TZOFFSETFROM:+0200
TZOFFSETTO:+0300
TZNAME:EEST
DTSTART:20260329T010000
END:DAYLIGHT
BEGIN:STANDARD
TZOFFSETFROM:+0300
TZOFFSETTO:+0200
TZNAME:EET
DTSTART:20261025T010000
END:STANDARD
BEGIN:DAYLIGHT
TZOFFSETFROM:+0200
TZOFFSETTO:+0300
TZNAME:EEST
DTSTART:20270328T010000
END:DAYLIGHT
BEGIN:STANDARD
TZOFFSETFROM:+0300
TZOFFSETTO:+0200
TZNAME:EET
DTSTART:20271031T010000
END:STANDARD
END:VTIMEZONE
BEGIN:VEVENT
DTSTART;TZID=Europe/Athens:20260207T223000
DTEND;TZID=Europe/Athens:20260207T223000
DTSTAMP:20260426T031324
CREATED:20260203T061706Z
LAST-MODIFIED:20260203T061822Z
UID:10000043-1770503400-1770503400@sifnos2day.gr
SUMMARY:Σοφία Παπάζογλου Live
DESCRIPTION:Share on Facebook(Ανοίγει σε νέο παράθυρο)\n				Facebook\n			\n				Share on WhatsApp(Ανοίγει σε νέο παράθυρο)\n				WhatsApp\n			\n				Share on X(Ανοίγει σε νέο παράθυρο)\n				X\n			\n				Εκτύπωση(Ανοίγει σε νέο παράθυρο)\n				Εκτύπωση\n			\n				Email a link to a friend(Ανοίγει σε νέο παράθυρο)\n				Email
URL:https://sifnos2day.gr/el/event/%cf%83%ce%bf%cf%86%ce%af%ce%b1-%cf%80%ce%b1%cf%80%ce%ac%ce%b6%ce%bf%ce%b3%ce%bb%ce%bf%cf%85-live/
LOCATION:Αρόδου cafe-bar\, Αρόδου Cafe Bar\, Σίφνος\, Κυκλάδες\, 84003\, Greece
ATTACH;FMTTYPE=image/jpeg:https://sifnos2day.gr/wp-content/uploads/2026/02/sofia-papazoglou.jpg
GEO:36.973905955556;24.723141354877
X-APPLE-STRUCTURED-LOCATION;VALUE=URI;X-ADDRESS=Αρόδου cafe-bar Αρόδου Cafe Bar Σίφνος Κυκλάδες 84003 Greece;X-APPLE-RADIUS=500;X-TITLE=Αρόδου Cafe Bar:geo:24.723141354877,36.973905955556
END:VEVENT
END:VCALENDAR