BEGIN:VCALENDAR
VERSION:2.0
PRODID:-//Sifnos cultural events - ECPv6.15.20//NONSGML v1.0//EN
CALSCALE:GREGORIAN
METHOD:PUBLISH
X-ORIGINAL-URL:https://sifnos2day.gr/el/
X-WR-CALDESC:Events for Sifnos cultural events
REFRESH-INTERVAL;VALUE=DURATION:PT1H
X-Robots-Tag:noindex
X-PUBLISHED-TTL:PT1H
BEGIN:VTIMEZONE
TZID:Europe/Athens
BEGIN:DAYLIGHT
TZOFFSETFROM:+0200
TZOFFSETTO:+0300
TZNAME:EEST
DTSTART:20250330T010000
END:DAYLIGHT
BEGIN:STANDARD
TZOFFSETFROM:+0300
TZOFFSETTO:+0200
TZNAME:EET
DTSTART:20251026T010000
END:STANDARD
BEGIN:DAYLIGHT
TZOFFSETFROM:+0200
TZOFFSETTO:+0300
TZNAME:EEST
DTSTART:20260329T010000
END:DAYLIGHT
BEGIN:STANDARD
TZOFFSETFROM:+0300
TZOFFSETTO:+0200
TZNAME:EET
DTSTART:20261025T010000
END:STANDARD
BEGIN:DAYLIGHT
TZOFFSETFROM:+0200
TZOFFSETTO:+0300
TZNAME:EEST
DTSTART:20270328T010000
END:DAYLIGHT
BEGIN:STANDARD
TZOFFSETFROM:+0300
TZOFFSETTO:+0200
TZNAME:EET
DTSTART:20271031T010000
END:STANDARD
END:VTIMEZONE
BEGIN:VEVENT
DTSTART;TZID=Europe/Athens:20260304T210000
DTEND;TZID=Europe/Athens:20260304T233000
DTSTAMP:20260426T031521
CREATED:20260301T172145Z
LAST-MODIFIED:20260301T172231Z
UID:10000055-1772658000-1772667000@sifnos2day.gr
SUMMARY:Encardia in Quattro
DESCRIPTION:Share on Facebook(Ανοίγει σε νέο παράθυρο)\n				Facebook\n			\n				Share on WhatsApp(Ανοίγει σε νέο παράθυρο)\n				WhatsApp\n			\n				Share on X(Ανοίγει σε νέο παράθυρο)\n				X\n			\n				Εκτύπωση(Ανοίγει σε νέο παράθυρο)\n				Εκτύπωση\n			\n				Email a link to a friend(Ανοίγει σε νέο παράθυρο)\n				Email
URL:https://sifnos2day.gr/el/event/encardia-in-quattro/
LOCATION:Αρόδου cafe-bar\, Αρόδου Cafe Bar\, Σίφνος\, Κυκλάδες\, 84003\, Greece
ATTACH;FMTTYPE=image/jpeg:https://sifnos2day.gr/wp-content/uploads/2026/03/encardia.jpg
GEO:36.973905955556;24.723141354877
X-APPLE-STRUCTURED-LOCATION;VALUE=URI;X-ADDRESS=Αρόδου cafe-bar Αρόδου Cafe Bar Σίφνος Κυκλάδες 84003 Greece;X-APPLE-RADIUS=500;X-TITLE=Αρόδου Cafe Bar:geo:24.723141354877,36.973905955556
END:VEVENT
BEGIN:VEVENT
DTSTART;TZID=Europe/Athens:20260307T200000
DTEND;TZID=Europe/Athens:20260307T200000
DTSTAMP:20260426T031521
CREATED:20260303T065615Z
LAST-MODIFIED:20260303T065615Z
UID:10000057-1772913600-1772913600@sifnos2day.gr
SUMMARY:Σμάρι - Ετήσιος χορός
DESCRIPTION:Share on Facebook(Ανοίγει σε νέο παράθυρο)\n				Facebook\n			\n				Share on WhatsApp(Ανοίγει σε νέο παράθυρο)\n				WhatsApp\n			\n				Share on X(Ανοίγει σε νέο παράθυρο)\n				X\n			\n				Εκτύπωση(Ανοίγει σε νέο παράθυρο)\n				Εκτύπωση\n			\n				Email a link to a friend(Ανοίγει σε νέο παράθυρο)\n				Email
URL:https://sifnos2day.gr/el/event/%cf%83%ce%bc%ce%ac%cf%81%ce%b9-%ce%b5%cf%84%ce%ae%cf%83%ce%b9%ce%bf%cf%82-%cf%87%ce%bf%cf%81%cf%8c%cf%82/
LOCATION:Το Στέκι\, Εστιατόριο Το Στέκι (Εξάμπελα)\, Σίφνος\, Κυκλάδες\, 84003\, Greece
ATTACH;FMTTYPE=image/jpeg:https://sifnos2day.gr/wp-content/uploads/2026/03/smari.jpg
GEO:36.966271068164;24.727789332145
X-APPLE-STRUCTURED-LOCATION;VALUE=URI;X-ADDRESS=Το Στέκι Εστιατόριο Το Στέκι (Εξάμπελα) Σίφνος Κυκλάδες 84003 Greece;X-APPLE-RADIUS=500;X-TITLE=Εστιατόριο Το Στέκι (Εξάμπελα):geo:24.727789332145,36.966271068164
END:VEVENT
END:VCALENDAR