BEGIN:VCALENDAR
VERSION:2.0
PRODID:-//Sifnos cultural events - ECPv6.15.20//NONSGML v1.0//EN
CALSCALE:GREGORIAN
METHOD:PUBLISH
X-ORIGINAL-URL:https://sifnos2day.gr/el/
X-WR-CALDESC:Events for Sifnos cultural events
REFRESH-INTERVAL;VALUE=DURATION:PT1H
X-Robots-Tag:noindex
X-PUBLISHED-TTL:PT1H
BEGIN:VTIMEZONE
TZID:Europe/Athens
BEGIN:DAYLIGHT
TZOFFSETFROM:+0200
TZOFFSETTO:+0300
TZNAME:EEST
DTSTART:20250330T010000
END:DAYLIGHT
BEGIN:STANDARD
TZOFFSETFROM:+0300
TZOFFSETTO:+0200
TZNAME:EET
DTSTART:20251026T010000
END:STANDARD
BEGIN:DAYLIGHT
TZOFFSETFROM:+0200
TZOFFSETTO:+0300
TZNAME:EEST
DTSTART:20260329T010000
END:DAYLIGHT
BEGIN:STANDARD
TZOFFSETFROM:+0300
TZOFFSETTO:+0200
TZNAME:EET
DTSTART:20261025T010000
END:STANDARD
BEGIN:DAYLIGHT
TZOFFSETFROM:+0200
TZOFFSETTO:+0300
TZNAME:EEST
DTSTART:20270328T010000
END:DAYLIGHT
BEGIN:STANDARD
TZOFFSETFROM:+0300
TZOFFSETTO:+0200
TZNAME:EET
DTSTART:20271031T010000
END:STANDARD
END:VTIMEZONE
BEGIN:VEVENT
DTSTART;TZID=Europe/Athens:20260324T223000
DTEND;TZID=Europe/Athens:20260324T223000
DTSTAMP:20260426T031313
CREATED:20260323T070324Z
LAST-MODIFIED:20260324T075304Z
UID:10000064-1774391400-1774391400@sifnos2day.gr
SUMMARY:Λαϊκή και ρεμπέτικη βραδιά - Αρόδου
DESCRIPTION:Share on Facebook(Ανοίγει σε νέο παράθυρο)\n				Facebook\n			\n				Share on WhatsApp(Ανοίγει σε νέο παράθυρο)\n				WhatsApp\n			\n				Share on X(Ανοίγει σε νέο παράθυρο)\n				X\n			\n				Εκτύπωση(Ανοίγει σε νέο παράθυρο)\n				Εκτύπωση\n			\n				Email a link to a friend(Ανοίγει σε νέο παράθυρο)\n				Email
URL:https://sifnos2day.gr/el/event/%ce%bb%ce%b1%cf%8a%ce%ba%ce%ae-%ce%ba%ce%b1%ce%b9-%cf%81%ce%b5%ce%bc%cf%80%ce%ad%cf%84%ce%b9%ce%ba%ce%b7-%ce%b2%cf%81%ce%b1%ce%b4%ce%b9%ce%ac-%ce%b1%cf%81%cf%8c%ce%b4%ce%bf%cf%85/
LOCATION:Αρόδου cafe-bar\, Αρόδου Cafe Bar\, Σίφνος\, Κυκλάδες\, 84003\, Greece
ATTACH;FMTTYPE=image/jpeg:https://sifnos2day.gr/wp-content/uploads/2026/03/arodou.jpg
GEO:36.973905955556;24.723141354877
X-APPLE-STRUCTURED-LOCATION;VALUE=URI;X-ADDRESS=Αρόδου cafe-bar Αρόδου Cafe Bar Σίφνος Κυκλάδες 84003 Greece;X-APPLE-RADIUS=500;X-TITLE=Αρόδου Cafe Bar:geo:24.723141354877,36.973905955556
END:VEVENT
BEGIN:VEVENT
DTSTART;TZID=Europe/Athens:20260329T110000
DTEND;TZID=Europe/Athens:20260329T140000
DTSTAMP:20260426T031313
CREATED:20260318T100041Z
LAST-MODIFIED:20260318T100041Z
UID:10000063-1774782000-1774792800@sifnos2day.gr
SUMMARY:Πασχαλινές περιπέτειες στο Μικρό Καράβι
DESCRIPTION:Share on Facebook(Ανοίγει σε νέο παράθυρο)\n				Facebook\n			\n				Share on WhatsApp(Ανοίγει σε νέο παράθυρο)\n				WhatsApp\n			\n				Share on X(Ανοίγει σε νέο παράθυρο)\n				X\n			\n				Εκτύπωση(Ανοίγει σε νέο παράθυρο)\n				Εκτύπωση\n			\n				Email a link to a friend(Ανοίγει σε νέο παράθυρο)\n				Email
URL:https://sifnos2day.gr/el/event/%cf%80%ce%b1%cf%83%cf%87%ce%b1%ce%bb%ce%b9%ce%bd%ce%ad%cf%82-%cf%80%ce%b5%cf%81%ce%b9%cf%80%ce%ad%cf%84%ce%b5%ce%b9%ce%b5%cf%82-%cf%83%cf%84%ce%bf-%ce%bc%ce%b9%ce%ba%cf%81%cf%8c-%ce%ba%ce%b1%cf%81/
LOCATION:Το μικρό καράβι\, Το μικρό καράβι\, Sifnos\, Cyclades\, 84003\, Greece
ATTACH;FMTTYPE=image/jpeg:https://sifnos2day.gr/wp-content/uploads/2026/03/pasxalines-peripeteies.jpg
GEO:36.989385364213;24.678894725202
X-APPLE-STRUCTURED-LOCATION;VALUE=URI;X-ADDRESS=Το μικρό καράβι Το μικρό καράβι Sifnos Cyclades 84003 Greece;X-APPLE-RADIUS=500;X-TITLE=Το μικρό καράβι:geo:24.678894725202,36.989385364213
END:VEVENT
END:VCALENDAR