BEGIN:VCALENDAR
VERSION:2.0
PRODID:-//Sifnos cultural events - ECPv6.15.20//NONSGML v1.0//EN
CALSCALE:GREGORIAN
METHOD:PUBLISH
X-ORIGINAL-URL:https://sifnos2day.gr/el/
X-WR-CALDESC:Events for Sifnos cultural events
REFRESH-INTERVAL;VALUE=DURATION:PT1H
X-Robots-Tag:noindex
X-PUBLISHED-TTL:PT1H
BEGIN:VTIMEZONE
TZID:Europe/Athens
BEGIN:DAYLIGHT
TZOFFSETFROM:+0200
TZOFFSETTO:+0300
TZNAME:EEST
DTSTART:20250330T010000
END:DAYLIGHT
BEGIN:STANDARD
TZOFFSETFROM:+0300
TZOFFSETTO:+0200
TZNAME:EET
DTSTART:20251026T010000
END:STANDARD
BEGIN:DAYLIGHT
TZOFFSETFROM:+0200
TZOFFSETTO:+0300
TZNAME:EEST
DTSTART:20260329T010000
END:DAYLIGHT
BEGIN:STANDARD
TZOFFSETFROM:+0300
TZOFFSETTO:+0200
TZNAME:EET
DTSTART:20261025T010000
END:STANDARD
BEGIN:DAYLIGHT
TZOFFSETFROM:+0200
TZOFFSETTO:+0300
TZNAME:EEST
DTSTART:20270328T010000
END:DAYLIGHT
BEGIN:STANDARD
TZOFFSETFROM:+0300
TZOFFSETTO:+0200
TZNAME:EET
DTSTART:20271031T010000
END:STANDARD
END:VTIMEZONE
BEGIN:VEVENT
DTSTART;TZID=Europe/Athens:20260410T213000
DTEND;TZID=Europe/Athens:20260410T223000
DTSTAMP:20260426T000026
CREATED:20260410T053033Z
LAST-MODIFIED:20260410T053233Z
UID:10000433-1775856600-1775860200@sifnos2day.gr
SUMMARY:Συνάντηση Επιταφίων
DESCRIPTION:Ο Δήμος Σίφνου\, Το τοπικό διαμέρισμα Απολλωνίας & ο Πολιτιστικός Σύλλογος Σίφνου\n\n\nΣας καλούν στην συνάντηση των Επιταφίων για την Απολλωνία στον Άγιο Στυλιανό στις Αράδες ώρα 21.30.\n\n\n				Share on Facebook(Ανοίγει σε νέο παράθυρο)\n				Facebook\n			\n				Share on WhatsApp(Ανοίγει σε νέο παράθυρο)\n				WhatsApp\n			\n				Share on X(Ανοίγει σε νέο παράθυρο)\n				X\n			\n				Εκτύπωση(Ανοίγει σε νέο παράθυρο)\n				Εκτύπωση\n			\n				Email a link to a friend(Ανοίγει σε νέο παράθυρο)\n				Email
URL:https://sifnos2day.gr/el/event/%cf%83%cf%85%ce%bd%ce%ac%ce%bd%cf%84%ce%b7%cf%83%ce%b7-%ce%b5%cf%80%ce%b9%cf%84%ce%b1%cf%86%ce%af%cf%89%ce%bd/
LOCATION:Άγιος Στυλιανός\, Αράδες\, Σίφνος\, Κυκλάδες\, 84003\, Greece
ATTACH;FMTTYPE=image/jpeg:https://sifnos2day.gr/wp-content/uploads/2026/04/epitafioi.jpg
GEO:36.969225217026;24.725215835313
X-APPLE-STRUCTURED-LOCATION;VALUE=URI;X-ADDRESS=Άγιος Στυλιανός Αράδες Σίφνος Κυκλάδες 84003 Greece;X-APPLE-RADIUS=500;X-TITLE=Αράδες:geo:24.725215835313,36.969225217026
END:VEVENT
BEGIN:VEVENT
DTSTART;TZID=Europe/Athens:20260412T003000
DTEND;TZID=Europe/Athens:20260412T003000
DTSTAMP:20260426T000026
CREATED:20260411T154337Z
LAST-MODIFIED:20260411T154532Z
UID:10000435-1775953800-1775953800@sifnos2day.gr
SUMMARY:Mosaiko Live
DESCRIPTION:Λίγο μετά την Ανάσταση \nFilipinos Passalidis\, Maria Vakali\, Stefanos Baklavas \n\n				Share on Facebook(Ανοίγει σε νέο παράθυρο)\n				Facebook\n			\n				Share on WhatsApp(Ανοίγει σε νέο παράθυρο)\n				WhatsApp\n			\n				Share on X(Ανοίγει σε νέο παράθυρο)\n				X\n			\n				Εκτύπωση(Ανοίγει σε νέο παράθυρο)\n				Εκτύπωση\n			\n				Email a link to a friend(Ανοίγει σε νέο παράθυρο)\n				Email
URL:https://sifnos2day.gr/el/event/mosaiko-live/
LOCATION:Τσιπουράδικο Μωσαϊκό\, Cafe mosaic\, Σίφνος\, Κυκλάδες\, 84003\, Greece
ATTACH;FMTTYPE=image/jpeg:https://sifnos2day.gr/wp-content/uploads/2026/04/pasalidis.jpg
GEO:36.981732821606;24.722998216722
X-APPLE-STRUCTURED-LOCATION;VALUE=URI;X-ADDRESS=Τσιπουράδικο Μωσαϊκό Cafe mosaic Σίφνος Κυκλάδες 84003 Greece;X-APPLE-RADIUS=500;X-TITLE=Cafe mosaic:geo:24.722998216722,36.981732821606
END:VEVENT
BEGIN:VEVENT
DTSTART;TZID=Europe/Athens:20260412T220000
DTEND;TZID=Europe/Athens:20260412T220000
DTSTAMP:20260426T000026
CREATED:20260411T154631Z
LAST-MODIFIED:20260411T154712Z
UID:10000437-1776031200-1776031200@sifnos2day.gr
SUMMARY:Mosaiko Live
DESCRIPTION:Filipinos Passalidis\, Maria Vakali\, Stefanos Baklavas \n\n				Share on Facebook(Ανοίγει σε νέο παράθυρο)\n				Facebook\n			\n				Share on WhatsApp(Ανοίγει σε νέο παράθυρο)\n				WhatsApp\n			\n				Share on X(Ανοίγει σε νέο παράθυρο)\n				X\n			\n				Εκτύπωση(Ανοίγει σε νέο παράθυρο)\n				Εκτύπωση\n			\n				Email a link to a friend(Ανοίγει σε νέο παράθυρο)\n				Email
URL:https://sifnos2day.gr/el/event/mosaiko-live-2/
LOCATION:Τσιπουράδικο Μωσαϊκό\, Cafe mosaic\, Σίφνος\, Κυκλάδες\, 84003\, Greece
ATTACH;FMTTYPE=image/jpeg:https://sifnos2day.gr/wp-content/uploads/2026/04/pasalidis.jpg
GEO:36.981732821606;24.722998216722
X-APPLE-STRUCTURED-LOCATION;VALUE=URI;X-ADDRESS=Τσιπουράδικο Μωσαϊκό Cafe mosaic Σίφνος Κυκλάδες 84003 Greece;X-APPLE-RADIUS=500;X-TITLE=Cafe mosaic:geo:24.722998216722,36.981732821606
END:VEVENT
END:VCALENDAR