BEGIN:VCALENDAR
VERSION:2.0
PRODID:-//Sifnos cultural events - ECPv6.15.20//NONSGML v1.0//EN
CALSCALE:GREGORIAN
METHOD:PUBLISH
X-ORIGINAL-URL:https://sifnos2day.gr/el/
X-WR-CALDESC:Events for Sifnos cultural events
REFRESH-INTERVAL;VALUE=DURATION:PT1H
X-Robots-Tag:noindex
X-PUBLISHED-TTL:PT1H
BEGIN:VTIMEZONE
TZID:Europe/Athens
BEGIN:DAYLIGHT
TZOFFSETFROM:+0200
TZOFFSETTO:+0300
TZNAME:EEST
DTSTART:20250330T010000
END:DAYLIGHT
BEGIN:STANDARD
TZOFFSETFROM:+0300
TZOFFSETTO:+0200
TZNAME:EET
DTSTART:20251026T010000
END:STANDARD
BEGIN:DAYLIGHT
TZOFFSETFROM:+0200
TZOFFSETTO:+0300
TZNAME:EEST
DTSTART:20260329T010000
END:DAYLIGHT
BEGIN:STANDARD
TZOFFSETFROM:+0300
TZOFFSETTO:+0200
TZNAME:EET
DTSTART:20261025T010000
END:STANDARD
BEGIN:DAYLIGHT
TZOFFSETFROM:+0200
TZOFFSETTO:+0300
TZNAME:EEST
DTSTART:20270328T010000
END:DAYLIGHT
BEGIN:STANDARD
TZOFFSETFROM:+0300
TZOFFSETTO:+0200
TZNAME:EET
DTSTART:20271031T010000
END:STANDARD
END:VTIMEZONE
BEGIN:VEVENT
DTSTART;TZID=Europe/Athens:20260418T203000
DTEND;TZID=Europe/Athens:20260418T223000
DTSTAMP:20260425T222128
CREATED:20260416T055304Z
LAST-MODIFIED:20260416T055304Z
UID:10000440-1776544200-1776551400@sifnos2day.gr
SUMMARY:Παραδοσιακοί σπόροι - Διατροφική αξία και αυτάρκεια
DESCRIPTION:Share on Facebook(Ανοίγει σε νέο παράθυρο)\n				Facebook\n			\n				Share on WhatsApp(Ανοίγει σε νέο παράθυρο)\n				WhatsApp\n			\n				Share on X(Ανοίγει σε νέο παράθυρο)\n				X\n			\n				Εκτύπωση(Ανοίγει σε νέο παράθυρο)\n				Εκτύπωση\n			\n				Email a link to a friend(Ανοίγει σε νέο παράθυρο)\n				Email
URL:https://sifnos2day.gr/el/event/%cf%80%ce%b1%cf%81%ce%b1%ce%b4%ce%bf%cf%83%ce%b9%ce%b1%ce%ba%ce%bf%ce%af-%cf%83%cf%80%cf%8c%cf%81%ce%bf%ce%b9-%ce%b4%ce%b9%ce%b1%cf%84%cf%81%ce%bf%cf%86%ce%b9%ce%ba%ce%ae-%ce%b1%ce%be%ce%af%ce%b1/
LOCATION:Πολιτιστικό Κέντρο Σίφνου “Μαριάνθη Σίμου”\, Sifnos Cultural Centre\, Σίφνος\, Κυκλάδες\, 84003\, Greece
ATTACH;FMTTYPE=image/jpeg:https://sifnos2day.gr/wp-content/uploads/2026/04/paradosiakoi-sporoi.jpg
GEO:36.982344264596;24.728720294111
X-APPLE-STRUCTURED-LOCATION;VALUE=URI;X-ADDRESS=Πολιτιστικό Κέντρο Σίφνου “Μαριάνθη Σίμου” Sifnos Cultural Centre Σίφνος Κυκλάδες 84003 Greece;X-APPLE-RADIUS=500;X-TITLE=Sifnos Cultural Centre:geo:24.728720294111,36.982344264596
END:VEVENT
BEGIN:VEVENT
DTSTART;TZID=Europe/Athens:20260418T230000
DTEND;TZID=Europe/Athens:20260418T230000
DTSTAMP:20260425T222128
CREATED:20260414T052022Z
LAST-MODIFIED:20260414T052022Z
UID:10000439-1776553200-1776553200@sifnos2day.gr
SUMMARY:Πάρτυ Πανσιφναϊκού
DESCRIPTION:Share on Facebook(Ανοίγει σε νέο παράθυρο)\n				Facebook\n			\n				Share on WhatsApp(Ανοίγει σε νέο παράθυρο)\n				WhatsApp\n			\n				Share on X(Ανοίγει σε νέο παράθυρο)\n				X\n			\n				Εκτύπωση(Ανοίγει σε νέο παράθυρο)\n				Εκτύπωση\n			\n				Email a link to a friend(Ανοίγει σε νέο παράθυρο)\n				Email
URL:https://sifnos2day.gr/el/event/%cf%80%ce%ac%cf%81%cf%84%cf%85-%cf%80%ce%b1%ce%bd%cf%83%ce%b9%cf%86%ce%bd%ce%b1%cf%8a%ce%ba%ce%bf%cf%8d/
LOCATION:Αρόδου cafe-bar\, Αρόδου Cafe Bar\, Σίφνος\, Κυκλάδες\, 84003\, Greece
ATTACH;FMTTYPE=image/jpeg:https://sifnos2day.gr/wp-content/uploads/2026/04/pansifnaikos.jpg
GEO:36.973905955556;24.723141354877
X-APPLE-STRUCTURED-LOCATION;VALUE=URI;X-ADDRESS=Αρόδου cafe-bar Αρόδου Cafe Bar Σίφνος Κυκλάδες 84003 Greece;X-APPLE-RADIUS=500;X-TITLE=Αρόδου Cafe Bar:geo:24.723141354877,36.973905955556
END:VEVENT
END:VCALENDAR