BEGIN:VCALENDAR
VERSION:2.0
PRODID:-//Sifnos cultural events - ECPv6.15.20//NONSGML v1.0//EN
CALSCALE:GREGORIAN
METHOD:PUBLISH
X-ORIGINAL-URL:https://sifnos2day.gr/el/
X-WR-CALDESC:Events for Sifnos cultural events
REFRESH-INTERVAL;VALUE=DURATION:PT1H
X-Robots-Tag:noindex
X-PUBLISHED-TTL:PT1H
BEGIN:VTIMEZONE
TZID:Europe/Athens
BEGIN:DAYLIGHT
TZOFFSETFROM:+0200
TZOFFSETTO:+0300
TZNAME:EEST
DTSTART:20240331T010000
END:DAYLIGHT
BEGIN:STANDARD
TZOFFSETFROM:+0300
TZOFFSETTO:+0200
TZNAME:EET
DTSTART:20241027T010000
END:STANDARD
BEGIN:DAYLIGHT
TZOFFSETFROM:+0200
TZOFFSETTO:+0300
TZNAME:EEST
DTSTART:20250330T010000
END:DAYLIGHT
BEGIN:STANDARD
TZOFFSETFROM:+0300
TZOFFSETTO:+0200
TZNAME:EET
DTSTART:20251026T010000
END:STANDARD
BEGIN:DAYLIGHT
TZOFFSETFROM:+0200
TZOFFSETTO:+0300
TZNAME:EEST
DTSTART:20260329T010000
END:DAYLIGHT
BEGIN:STANDARD
TZOFFSETFROM:+0300
TZOFFSETTO:+0200
TZNAME:EET
DTSTART:20261025T010000
END:STANDARD
END:VTIMEZONE
BEGIN:VEVENT
DTSTART;TZID=Europe/Athens:20251213T113000
DTEND;TZID=Europe/Athens:20251213T140000
DTSTAMP:20260426T050223
CREATED:20251212T183721Z
LAST-MODIFIED:20251212T183721Z
UID:10000032-1765625400-1765634400@sifnos2day.gr
SUMMARY:Χριστουγεννιάτικη έκπληξη στις Καμάρες
DESCRIPTION:Share on Facebook(Ανοίγει σε νέο παράθυρο)\n				Facebook\n			\n				Share on WhatsApp(Ανοίγει σε νέο παράθυρο)\n				WhatsApp\n			\n				Share on X(Ανοίγει σε νέο παράθυρο)\n				X\n			\n				Εκτύπωση(Ανοίγει σε νέο παράθυρο)\n				Εκτύπωση\n			\n				Email a link to a friend(Ανοίγει σε νέο παράθυρο)\n				Email
URL:https://sifnos2day.gr/el/event/%cf%87%cf%81%ce%b9%cf%83%cf%84%ce%bf%cf%85%ce%b3%ce%b5%ce%bd%ce%bd%ce%b9%ce%ac%cf%84%ce%b9%ce%ba%ce%b7-%ce%ad%ce%ba%cf%80%ce%bb%ce%b7%ce%be%ce%b7-%cf%83%cf%84%ce%b9%cf%82-%ce%ba%ce%b1%ce%bc%ce%ac/
LOCATION:Πλατεία Καμαρών (Πλατεία Κουλούρη)\, Πλατεία Καμαρών Σίφνος\, Σίφνος\, Κυκλάδες\, 84003\, Greece
ATTACH;FMTTYPE=image/jpeg:https://sifnos2day.gr/wp-content/uploads/2025/12/christmas-kamares.jpg
GEO:36.988784886338;24.677573266187
X-APPLE-STRUCTURED-LOCATION;VALUE=URI;X-ADDRESS=Πλατεία Καμαρών (Πλατεία Κουλούρη) Πλατεία Καμαρών Σίφνος Σίφνος Κυκλάδες 84003 Greece;X-APPLE-RADIUS=500;X-TITLE=Πλατεία Καμαρών Σίφνος:geo:24.677573266187,36.988784886338
END:VEVENT
BEGIN:VEVENT
DTSTART;TZID=Europe/Athens:20251212T173000
DTEND;TZID=Europe/Athens:20251212T183000
DTSTAMP:20260426T050223
CREATED:20251209T065333Z
LAST-MODIFIED:20251209T065333Z
UID:10000013-1765560600-1765564200@sifnos2day.gr
SUMMARY:Χριστουγεννιάτικοι μπελάδες
DESCRIPTION:Share on Facebook(Ανοίγει σε νέο παράθυρο)\n				Facebook\n			\n				Share on WhatsApp(Ανοίγει σε νέο παράθυρο)\n				WhatsApp\n			\n				Share on X(Ανοίγει σε νέο παράθυρο)\n				X\n			\n				Εκτύπωση(Ανοίγει σε νέο παράθυρο)\n				Εκτύπωση\n			\n				Email a link to a friend(Ανοίγει σε νέο παράθυρο)\n				Email
URL:https://sifnos2day.gr/el/event/%cf%87%cf%81%ce%b9%cf%83%cf%84%ce%bf%cf%85%ce%b3%ce%b5%ce%bd%ce%bd%ce%b9%ce%ac%cf%84%ce%b9%ce%ba%ce%bf%ce%b9-%ce%bc%cf%80%ce%b5%ce%bb%ce%ac%ce%b4%ce%b5%cf%82/
LOCATION:Δημοτικό Σχολείο Σίφνου\, Δημοτικό Σχολείο Σίφνου\, Καταβατή\, Σίφνος\, Κυκλάδες\, 84003\, Greece
ATTACH;FMTTYPE=image/jpeg:https://sifnos2day.gr/wp-content/uploads/2025/12/12122025-belades.jpg
GEO:36.961522351132;24.722737778476
X-APPLE-STRUCTURED-LOCATION;VALUE=URI;X-ADDRESS=Δημοτικό Σχολείο Σίφνου Δημοτικό Σχολείο Σίφνου Καταβατή Σίφνος Κυκλάδες 84003 Greece;X-APPLE-RADIUS=500;X-TITLE=Δημοτικό Σχολείο Σίφνου:geo:24.722737778476,36.961522351132
END:VEVENT
BEGIN:VEVENT
DTSTART;TZID=Europe/Athens:20251211T180000
DTEND;TZID=Europe/Athens:20251211T210000
DTSTAMP:20260426T050223
CREATED:20251209T071446Z
LAST-MODIFIED:20251209T071446Z
UID:10000016-1765476000-1765486800@sifnos2day.gr
SUMMARY:Το Στενό των Χριστουγέννων
DESCRIPTION:Share on Facebook(Ανοίγει σε νέο παράθυρο)\n				Facebook\n			\n				Share on WhatsApp(Ανοίγει σε νέο παράθυρο)\n				WhatsApp\n			\n				Share on X(Ανοίγει σε νέο παράθυρο)\n				X\n			\n				Εκτύπωση(Ανοίγει σε νέο παράθυρο)\n				Εκτύπωση\n			\n				Email a link to a friend(Ανοίγει σε νέο παράθυρο)\n				Email
URL:https://sifnos2day.gr/el/event/%cf%84%ce%bf-%cf%83%cf%84%ce%b5%ce%bd%cf%8c-%cf%84%cf%89%ce%bd-%cf%87%cf%81%ce%b9%cf%83%cf%84%ce%bf%cf%85%ce%b3%ce%ad%ce%bd%ce%bd%cf%89%ce%bd-2/
LOCATION:Πλατεία Ραμπαγά\, Πλατεία Ραμπαγά\, Απολλωνία\, Σίφνος\, Κυκλάδες\, 84003\, Greece
ATTACH;FMTTYPE=image/jpeg:https://sifnos2day.gr/wp-content/uploads/2025/12/christmas-alley.jpg
GEO:36.972719000712;24.723620375639
X-APPLE-STRUCTURED-LOCATION;VALUE=URI;X-ADDRESS=Πλατεία Ραμπαγά Πλατεία Ραμπαγά Απολλωνία Σίφνος Κυκλάδες 84003 Greece;X-APPLE-RADIUS=500;X-TITLE=Πλατεία Ραμπαγά:geo:24.723620375639,36.972719000712
END:VEVENT
BEGIN:VEVENT
DTSTART;TZID=Europe/Athens:20251210T180000
DTEND;TZID=Europe/Athens:20251210T210000
DTSTAMP:20260426T050223
CREATED:20251209T065758Z
LAST-MODIFIED:20251209T065758Z
UID:10000014-1765389600-1765400400@sifnos2day.gr
SUMMARY:Το Στενό των Χριστουγέννων
DESCRIPTION:Το “Στενό των Χριστουγέννων” στο κεντρικό σοκάκι της Απολλωνίας ετοιμάζεται να υποδεχτεί μικρούς και μεγάλους\, σε μια γιορτινή ατμόσφαιρα\, με δράσεις και εκδηλώσεις\, που θα υλοποιηθούν με την πρωτοβουλία και τη φροντίδα φορέων\, Συλλόγων\, εκπαιδευτικών\, μαθητών και εθελοντών στο χαρούμενο πνεύμα των ημερών.\n\n\nΟ Δήμος Σίφνου σας προσκαλεί στην γιορτή έναρξης των χριστουγεννιάτικων εκδηλώσεων την Τετάρτη 10 Δεκεμβρίου και ώρα 18.00 στην πλατεία Ραμπαγά.\n\n\nΤο πρόγραμμα της έναρξης περιλαμβάνει:\n-Φωταγώγηση του χριστουγεννιάτικου δέντρου\, ευγενική προσφορά -και αυτή τη χρονιά- του συμπατριώτη μας\, Σεβασμιώτατου Μητροπολίτη Κασσανδρείας κ.κ. ΝΙΚΟΔΗΜΟΥ\n-Κεράσματα από το Σύλλογο Γυναικών Σίφνου «ΤΟ ΣΜΑΡΙ»\n-Θεατρικό δρώμενο από το Θεατρικό Εργαστήρι Ενηλίκων Σίφνου (ΘΕΕΣ)\n-Καραόκε για μικρά παιδιά από το Σύλλογο Νεολαίας Σίφνου (ΣΥ.ΝΕ.ΣΙ.) Οι μικροί μας φίλοι μπορούν να δηλώσουν το τραγούδι της επιλογής τους στον κ. Αντώνη Ατσόνιο (τηλ. επικ.: 6979213960)\n-Δραστηριότητες από τον ΠΑΝΣΙΦΝΑΪΚΟ\n-Φωτογράφηση και βόλτα με το αλογάκι “Ιάσονα” από τη Loumidis Family Farm\n-Face painting και παραμύθι από τους γονείς του Παιδικού Σταθμού «ΤΟ ΜΙΚΡΟ ΚΑΡΑΒΙ»\n\n\nΣυμμετέχουν επίσης:\nΜαθητές και μαθήτριες Α΄ Γυμνασίου – Β2 Γυμνασίου – Β΄ Λυκείου\, ο Σύλλογος Γονέων & Κηδεμόνων του Νηπιαγωγείου Απολλωνίας και του Δημοτικού Σχολείου Σίφνου.\n\n\n\n\n\nΣε περίπτωση κακοκαιρίας\, οι προγραμματισμένες δράσεις θα ενσωματώνονται στο πρόγραμμα άλλης ημέρας.\n\n\nΣυνδιοργάνωση: Σύλλογος Γυναικών Σίφνου «Το Σμάρι»\nΥποστήριξη: Σύλλογος Νεολαίας Σίφνου (ΣΥ.ΝΕ.ΣΙ.) “Ο Άγιος Εφραίμ”\n\n\nΧρόνια Πολλά – Καλές Γιορτές σε όλους!\n\n\n				Share on Facebook(Ανοίγει σε νέο παράθυρο)\n				Facebook\n			\n				Share on WhatsApp(Ανοίγει σε νέο παράθυρο)\n				WhatsApp\n			\n				Share on X(Ανοίγει σε νέο παράθυρο)\n				X\n			\n				Εκτύπωση(Ανοίγει σε νέο παράθυρο)\n				Εκτύπωση\n			\n				Email a link to a friend(Ανοίγει σε νέο παράθυρο)\n				Email
URL:https://sifnos2day.gr/el/event/%cf%84%ce%bf-%cf%83%cf%84%ce%b5%ce%bd%cf%8c-%cf%84%cf%89%ce%bd-%cf%87%cf%81%ce%b9%cf%83%cf%84%ce%bf%cf%85%ce%b3%ce%ad%ce%bd%ce%bd%cf%89%ce%bd/
LOCATION:Πλατεία Ραμπαγά\, Πλατεία Ραμπαγά\, Απολλωνία\, Σίφνος\, Κυκλάδες\, 84003\, Greece
ATTACH;FMTTYPE=image/jpeg:https://sifnos2day.gr/wp-content/uploads/2025/12/10122025-steno-xristougenon.jpg
GEO:36.972719000712;24.723620375639
X-APPLE-STRUCTURED-LOCATION;VALUE=URI;X-ADDRESS=Πλατεία Ραμπαγά Πλατεία Ραμπαγά Απολλωνία Σίφνος Κυκλάδες 84003 Greece;X-APPLE-RADIUS=500;X-TITLE=Πλατεία Ραμπαγά:geo:24.723620375639,36.972719000712
END:VEVENT
END:VCALENDAR